BEGIN:VCALENDAR
VERSION:2.0
PRODID:-//hacksw/handcal//NONSGML v1.0//EN
BEGIN:VEVENT
UID:047d1e1e33f17f452ac34821e4bc245a
DTSTAMP:20260423T131544Z

DTSTART:20260416T000000
DTEND:20260416T000000
SUMMARY:Grand Opening Energylandia
DESCRIPTION:Op 16 april opent Energylandia opnieuw haar deuren, zodat we samen een gloednieuw seizoen vol spanning en sensatie kunnen inluiden! Maak je klaar voor onvergetelijke momenten, eindeloos gelach en onbeperkt plezier! Ontdek 133 attracties verdeeld over 7 themagebieden, waaronder 20 spectaculaire achtbanen die je adrenaline naar een hoger niveau tillen. We hebben adembenemende shows voorbereid met onze getalenteerde artiesten – een mix van muziek, dans en acrobatiek die bezoekers van alle leeftijden zal betoveren. Dit jaar vieren we de 12e verjaardag van Energylandia, en dat betekent maar één ding: taart, verrassingen en heel veel plezier! 🎉 📅 16 april – noteer het in je agenda en vier het samen met ons. Onvergetelijk!

X-ALT-DESC;FMTTYPE=text/html:<!DOCTYPE HTML PUBLIC "-//W3C//DTD HTML 3.2//EN">\n<HTML>\n<HEAD>\n<META NAME="Generator" CONTENT="MS Exchange Server version 08.00.0681.000">\n<TITLE></TITLE>\n</HEAD>\n<BODY>\n<!-- Converted from text/rtf format -->\n\n<p>Op 16 april opent Energylandia opnieuw haar deuren, zodat we samen een gloednieuw seizoen vol spanning en sensatie kunnen inluiden! Maak je klaar voor onvergetelijke momenten, eindeloos gelach en onbeperkt plezier! Ontdek 133 attracties verdeeld over 7 themagebieden, waaronder 20 spectaculaire achtbanen die je adrenaline naar een hoger niveau tillen. We hebben adembenemende shows voorbereid met onze getalenteerde artiesten – een mix van muziek, dans en acrobatiek die bezoekers van alle leeftijden zal betoveren. Dit jaar vieren we de 12e verjaardag van Energylandia, en dat betekent maar één ding: taart, verrassingen en heel veel plezier! 🎉 📅 16 april – noteer het in je agenda en vier het samen met ons. Onvergetelijk!</p>\n\n</BODY>\n</HTML>

LOCATION:Energylandia, 2, Aleja 3 Maja, Osiedle Bugaj, Zator, gmina Zator, powiat oświęcimski, województwo małopolskie, 32-640, Polska
END:VEVENT

END:VCALENDAR
